BEGIN:VCALENDAR
VERSION:2.0
PRODID:-//Ridgewood Camera Club - ECPv6.15.20//NONSGML v1.0//EN
CALSCALE:GREGORIAN
METHOD:PUBLISH
X-ORIGINAL-URL:https://ridgewoodcameraclub.net
X-WR-CALDESC:Events for Ridgewood Camera Club
REFRESH-INTERVAL;VALUE=DURATION:PT1H
X-Robots-Tag:noindex
X-PUBLISHED-TTL:PT1H
BEGIN:VTIMEZONE
TZID:America/New_York
BEGIN:DAYLIGHT
TZOFFSETFROM:-0500
TZOFFSETTO:-0400
TZNAME:EDT
DTSTART:20240310T070000
END:DAYLIGHT
BEGIN:STANDARD
TZOFFSETFROM:-0400
TZOFFSETTO:-0500
TZNAME:EST
DTSTART:20241103T060000
END:STANDARD
BEGIN:DAYLIGHT
TZOFFSETFROM:-0500
TZOFFSETTO:-0400
TZNAME:EDT
DTSTART:20250309T070000
END:DAYLIGHT
BEGIN:STANDARD
TZOFFSETFROM:-0400
TZOFFSETTO:-0500
TZNAME:EST
DTSTART:20251102T060000
END:STANDARD
BEGIN:DAYLIGHT
TZOFFSETFROM:-0500
TZOFFSETTO:-0400
TZNAME:EDT
DTSTART:20260308T070000
END:DAYLIGHT
BEGIN:STANDARD
TZOFFSETFROM:-0400
TZOFFSETTO:-0500
TZNAME:EST
DTSTART:20261101T060000
END:STANDARD
END:VTIMEZONE
BEGIN:VEVENT
DTSTART;TZID=America/New_York:20250713T160000
DTEND;TZID=America/New_York:20250713T180000
DTSTAMP:20260424T081011
CREATED:20250616T184119Z
LAST-MODIFIED:20250616T184634Z
UID:10000078-1752422400-1752429600@ridgewoodcameraclub.net
SUMMARY:Reception for PhotograpHER Exhibition
DESCRIPTION:Ten RCC members are participating in the exhibit PhotograpHER\, Works By Women to be held at The Stable in Ridgewood (259 N. Maple Avenue) from July 7th to 29th. The exhibit is comprised of 75 works and is supporting both the Ridgewood Arts Foundation and the Conservancy for Ridgewood Public Lands. Come out and celebrate our members achievements at a reception on Sunday\, July 13th from 4 p.m. to 6 p.m.! \nViews: 91
URL:https://ridgewoodcameraclub.net/event/reception-for-photographer-exhibition/
LOCATION:The Stable\, 259 N. Maple Ave\, Ridgewood\, NJ\, 07450\, United States
CATEGORIES:External Event
ATTACH;FMTTYPE=image/png:https://ridgewoodcameraclub.net/wp-content/uploads/2025/06/Screenshot-2025-06-16-at-2.34.52 PM.png
END:VEVENT
END:VCALENDAR