BEGIN:VCALENDAR
VERSION:2.0
PRODID:-//Ridgewood Camera Club - ECPv6.15.20//NONSGML v1.0//EN
CALSCALE:GREGORIAN
METHOD:PUBLISH
X-WR-CALNAME:Ridgewood Camera Club
X-ORIGINAL-URL:https://ridgewoodcameraclub.net
X-WR-CALDESC:Events for Ridgewood Camera Club
REFRESH-INTERVAL;VALUE=DURATION:PT1H
X-Robots-Tag:noindex
X-PUBLISHED-TTL:PT1H
BEGIN:VTIMEZONE
TZID:America/New_York
BEGIN:DAYLIGHT
TZOFFSETFROM:-0500
TZOFFSETTO:-0400
TZNAME:EDT
DTSTART:20250309T070000
END:DAYLIGHT
BEGIN:STANDARD
TZOFFSETFROM:-0400
TZOFFSETTO:-0500
TZNAME:EST
DTSTART:20251102T060000
END:STANDARD
BEGIN:DAYLIGHT
TZOFFSETFROM:-0500
TZOFFSETTO:-0400
TZNAME:EDT
DTSTART:20260308T070000
END:DAYLIGHT
BEGIN:STANDARD
TZOFFSETFROM:-0400
TZOFFSETTO:-0500
TZNAME:EST
DTSTART:20261101T060000
END:STANDARD
BEGIN:DAYLIGHT
TZOFFSETFROM:-0500
TZOFFSETTO:-0400
TZNAME:EDT
DTSTART:20270314T070000
END:DAYLIGHT
BEGIN:STANDARD
TZOFFSETFROM:-0400
TZOFFSETTO:-0500
TZNAME:EST
DTSTART:20271107T060000
END:STANDARD
END:VTIMEZONE
BEGIN:VTIMEZONE
TZID:UTC
BEGIN:STANDARD
TZOFFSETFROM:+0000
TZOFFSETTO:+0000
TZNAME:UTC
DTSTART:20250101T000000
END:STANDARD
END:VTIMEZONE
BEGIN:VEVENT
DTSTART;TZID=America/New_York:20260401T193000
DTEND;TZID=America/New_York:20260401T210000
DTSTAMP:20260423T190444
CREATED:20250617T192005Z
LAST-MODIFIED:20260105T151754Z
UID:10000091-1775071800-1775077200@ridgewoodcameraclub.net
SUMMARY:Executive Committee Meeting - April
DESCRIPTION:Views: 91
URL:https://ridgewoodcameraclub.net/event/executive-committee-meeting-april/
LOCATION:RCC Zoom
CATEGORIES:EC Meetings
ORGANIZER;CN="Stuart Waldrum":MAILTO:waldrum@yahoo.com
END:VEVENT
BEGIN:VEVENT
DTSTART;TZID=America/New_York:20260407T054500
DTEND;TZID=America/New_York:20260407T190000
DTSTAMP:20260423T190444
CREATED:20260404T124847Z
LAST-MODIFIED:20260406T145623Z
UID:10000184-1775540700-1775588400@ridgewoodcameraclub.net
SUMMARY:Sunrise with Cherry Blossoms at the Cathedral Basilica
DESCRIPTION:Join us for early morning images at   Cathedral Basilica of the Sacred Heart. \nPark right beside the  Cathedral at (Victoria  Ave. or Ridge Street) and then walk down to the opposite side of Branch Brook Lake. The sun comes up behind the basilica and the lake is lined with cherry blossoms. It always makes for a really beautiful morning! \nPlan to get there around 5:45 for time for setup \nAndrew Tuttle \nViews: 91
URL:https://ridgewoodcameraclub.net/event/sunrise-with-cherry-blossoms-at-the-carthedral-basilica/
LOCATION:Cathedral Basilica\, 89 Ridge st\, Newark\, 07104\, United States
CATEGORIES:Member Meetup
ATTACH;FMTTYPE=image/jpeg:https://ridgewoodcameraclub.net/wp-content/uploads/2026/04/DSC00275-scaled.jpeg
END:VEVENT
BEGIN:VEVENT
DTSTART;TZID=America/New_York:20260411T130000
DTEND;TZID=America/New_York:20260411T160000
DTSTAMP:20260423T190444
CREATED:20260325T020501Z
LAST-MODIFIED:20260402T140811Z
UID:10000183-1775912400-1775923200@ridgewoodcameraclub.net
SUMMARY:Photoshop for Beginners by George Garbeck
DESCRIPTION:Join us live for an introduction to Photoshop at FLUMC on Saturday\, 4/11 instructed by George Garbeck. We will start out by learning the Photoshop interface and then explore the basic tools\, layers\, the concept of non-destructive editing\, creating composites\, and using filters and AI to enhance images. Students will be able to set up the workspace in class and will be provided with practice images to work with at their leisure. In order to follow along during the class\, a laptop with a current Adobe Photoshop subscription installed is recommended. We will try to have a few laptops that can be shared on site to follow along if you do your computing on a home machine. This will be a fun and informative afternoon! \nViews: 91
URL:https://ridgewoodcameraclub.net/event/photoshop-for-beginners-by-george-garbeck/
LOCATION:Franklin Lakes United Methodist Church – FLUMC\, 454 Pulis Ave\, Franklin Lakes\, NJ\, 07417\, United States
CATEGORIES:Workshops
ATTACH;FMTTYPE=image/jpeg:https://ridgewoodcameraclub.net/wp-content/uploads/2026/03/afraid-Firefly-Upscaler-4x-scale.jpg
ORGANIZER;CN="George Garbeck":MAILTO:ggarbeck@gmail.com
END:VEVENT
BEGIN:VEVENT
DTSTART;TZID=America/New_York:20260412T110000
DTEND;TZID=America/New_York:20260412T140000
DTSTAMP:20260423T190444
CREATED:20251008T155834Z
LAST-MODIFIED:20251008T155834Z
UID:10000167-1775991600-1776002400@ridgewoodcameraclub.net
SUMMARY:April Brunch Bunch
DESCRIPTION:Social Brunch with other club members \nViews: 91
URL:https://ridgewoodcameraclub.net/event/april-brunch-bunch/
LOCATION:Suburban Diner\, 172 Rt. 17\, Paramus\, United States
CATEGORIES:Brunch
ATTACH;FMTTYPE=image/jpeg:https://ridgewoodcameraclub.net/wp-content/uploads/2025/06/IMG_1997.jpeg
END:VEVENT
BEGIN:VEVENT
DTSTART;TZID=America/New_York:20260422T193000
DTEND;TZID=America/New_York:20260422T210000
DTSTAMP:20260423T190444
CREATED:20260114T163012Z
LAST-MODIFIED:20260414T160909Z
UID:10000174-1776886200-1776891600@ridgewoodcameraclub.net
SUMMARY:RCC Magazine
DESCRIPTION:Short presentations from club members \nViews: 91
URL:https://ridgewoodcameraclub.net/event/tbd-2/
LOCATION:Franklin Lakes United Methodist Church – FLUMC\, 454 Pulis Ave\, Franklin Lakes\, NJ\, 07417\, United States
CATEGORIES:Regular club meeting
ATTACH;FMTTYPE=image/jpeg:https://ridgewoodcameraclub.net/wp-content/uploads/2025/06/FLUMC.jpg
END:VEVENT
BEGIN:VEVENT
DTSTART;TZID=America/New_York:20260506T193000
DTEND;TZID=America/New_York:20260506T210000
DTSTAMP:20260423T190444
CREATED:20250617T192045Z
LAST-MODIFIED:20250826T195136Z
UID:10000092-1778095800-1778101200@ridgewoodcameraclub.net
SUMMARY:Executive Committee Meeting - May
DESCRIPTION:Views: 91
URL:https://ridgewoodcameraclub.net/event/executive-committee-meeting-may/
LOCATION:RCC Zoom
CATEGORIES:EC Meetings
ORGANIZER;CN="Stuart Waldrum":MAILTO:waldrum@yahoo.com
END:VEVENT
BEGIN:VEVENT
DTSTART;TZID=America/New_York:20260517T110000
DTEND;TZID=America/New_York:20260517T140000
DTSTAMP:20260423T190444
CREATED:20251008T160035Z
LAST-MODIFIED:20260205T034217Z
UID:10000168-1779015600-1779026400@ridgewoodcameraclub.net
SUMMARY:May Brunch Bunch
DESCRIPTION:Social Brunch with other club members \nViews: 91
URL:https://ridgewoodcameraclub.net/event/may-brunch-bunch/
LOCATION:Suburban Diner\, 172 Rt. 17\, Paramus\, United States
CATEGORIES:Brunch
ATTACH;FMTTYPE=image/jpeg:https://ridgewoodcameraclub.net/wp-content/uploads/2025/06/IMG_1997.jpeg
END:VEVENT
BEGIN:VEVENT
DTSTART;VALUE=DATE:20260601
DTEND;VALUE=DATE:20260629
DTSTAMP:20260423T190444
CREATED:20250902T220131Z
LAST-MODIFIED:20250902T220131Z
UID:10000159-1780272000-1782691199@ridgewoodcameraclub.net
SUMMARY:RCC Exhibition
DESCRIPTION:Exhibition of RCC photographs – details to follow \nViews: 91
URL:https://ridgewoodcameraclub.net/event/rcc-exhibition-2/
LOCATION:Franklin Lakes United Methodist Church – FLUMC\, 454 Pulis Ave\, Franklin Lakes\, NJ\, 07417\, United States
CATEGORIES:Exhibitions
ATTACH;FMTTYPE=image/jpeg:https://ridgewoodcameraclub.net/wp-content/uploads/2025/09/Ridgewood-library.jpg
END:VEVENT
BEGIN:VEVENT
DTSTART;TZID=America/New_York:20260603T193000
DTEND;TZID=America/New_York:20260603T210000
DTSTAMP:20260423T190444
CREATED:20250617T192129Z
LAST-MODIFIED:20250826T195053Z
UID:10000093-1780515000-1780520400@ridgewoodcameraclub.net
SUMMARY:Executive Committee Meeting - June
DESCRIPTION:Views: 91
URL:https://ridgewoodcameraclub.net/event/executive-committee-meeting-june/
LOCATION:RCC Zoom
CATEGORIES:EC Meetings
ORGANIZER;CN="Stuart Waldrum":MAILTO:waldrum@yahoo.com
END:VEVENT
BEGIN:VEVENT
DTSTART;TZID=UTC:20260606T120000
DTEND;TZID=UTC:20260606T170000
DTSTAMP:20260423T190444
CREATED:20250825T163929Z
LAST-MODIFIED:20260126T211536Z
UID:10000153-1780747200-1780765200@ridgewoodcameraclub.net
SUMMARY:End of Year Picnic - Bergen County Duck Pond Pavilion - Ridgewood
DESCRIPTION:Views: 91
URL:https://ridgewoodcameraclub.net/event/end-of-year-picnic-ridge-duck-pond-pavillion/
LOCATION:Ridgewood Duck Pond\, 1133 East Ridgewood Ave\, Ridgewood\, NJ\, 07450\, United States
CATEGORIES:Social
END:VEVENT
BEGIN:VEVENT
DTSTART;TZID=America/New_York:20260614T110000
DTEND;TZID=America/New_York:20260614T140000
DTSTAMP:20260423T190444
CREATED:20260226T204912Z
LAST-MODIFIED:20260226T204912Z
UID:10000180-1781434800-1781445600@ridgewoodcameraclub.net
SUMMARY:June Brunch Bunch
DESCRIPTION:Social Brunch with other club members \nViews: 91
URL:https://ridgewoodcameraclub.net/event/june-brunch-bunch/
LOCATION:Suburban Diner\, 172 Rt. 17\, Paramus\, United States
CATEGORIES:Brunch
ATTACH;FMTTYPE=image/jpeg:https://ridgewoodcameraclub.net/wp-content/uploads/2025/06/IMG_1997.jpeg
END:VEVENT
BEGIN:VEVENT
DTSTART;TZID=America/New_York:20260712T110000
DTEND;TZID=America/New_York:20260712T140000
DTSTAMP:20260423T190444
CREATED:20260226T205035Z
LAST-MODIFIED:20260226T205303Z
UID:10000181-1783854000-1783864800@ridgewoodcameraclub.net
SUMMARY:July Brunch Bunch
DESCRIPTION:Social Brunch with other club members \nViews: 91
URL:https://ridgewoodcameraclub.net/event/july-brunch-bunch/
LOCATION:Suburban Diner\, 172 Rt. 17\, Paramus\, United States
CATEGORIES:Brunch
ATTACH;FMTTYPE=image/jpeg:https://ridgewoodcameraclub.net/wp-content/uploads/2025/06/IMG_1997.jpeg
END:VEVENT
BEGIN:VEVENT
DTSTART;TZID=America/New_York:20260809T110000
DTEND;TZID=America/New_York:20260809T140000
DTSTAMP:20260423T190444
CREATED:20260226T205200Z
LAST-MODIFIED:20260226T205200Z
UID:10000182-1786273200-1786284000@ridgewoodcameraclub.net
SUMMARY:August Brunch Bunch
DESCRIPTION:Social Brunch with other club members \nViews: 91
URL:https://ridgewoodcameraclub.net/event/august-brunch-bunch/
LOCATION:Suburban Diner\, 172 Rt. 17\, Paramus\, United States
CATEGORIES:Brunch
ATTACH;FMTTYPE=image/jpeg:https://ridgewoodcameraclub.net/wp-content/uploads/2025/06/IMG_1997.jpeg
END:VEVENT
END:VCALENDAR