BEGIN:VCALENDAR
VERSION:2.0
PRODID:-//Ridgewood Camera Club - ECPv6.15.20//NONSGML v1.0//EN
CALSCALE:GREGORIAN
METHOD:PUBLISH
X-ORIGINAL-URL:https://ridgewoodcameraclub.net
X-WR-CALDESC:Events for Ridgewood Camera Club
REFRESH-INTERVAL;VALUE=DURATION:PT1H
X-Robots-Tag:noindex
X-PUBLISHED-TTL:PT1H
BEGIN:VTIMEZONE
TZID:America/New_York
BEGIN:DAYLIGHT
TZOFFSETFROM:-0500
TZOFFSETTO:-0400
TZNAME:EDT
DTSTART:20240310T070000
END:DAYLIGHT
BEGIN:STANDARD
TZOFFSETFROM:-0400
TZOFFSETTO:-0500
TZNAME:EST
DTSTART:20241103T060000
END:STANDARD
BEGIN:DAYLIGHT
TZOFFSETFROM:-0500
TZOFFSETTO:-0400
TZNAME:EDT
DTSTART:20250309T070000
END:DAYLIGHT
BEGIN:STANDARD
TZOFFSETFROM:-0400
TZOFFSETTO:-0500
TZNAME:EST
DTSTART:20251102T060000
END:STANDARD
BEGIN:DAYLIGHT
TZOFFSETFROM:-0500
TZOFFSETTO:-0400
TZNAME:EDT
DTSTART:20260308T070000
END:DAYLIGHT
BEGIN:STANDARD
TZOFFSETFROM:-0400
TZOFFSETTO:-0500
TZNAME:EST
DTSTART:20261101T060000
END:STANDARD
BEGIN:DAYLIGHT
TZOFFSETFROM:-0500
TZOFFSETTO:-0400
TZNAME:EDT
DTSTART:20270314T070000
END:DAYLIGHT
BEGIN:STANDARD
TZOFFSETFROM:-0400
TZOFFSETTO:-0500
TZNAME:EST
DTSTART:20271107T060000
END:STANDARD
END:VTIMEZONE
BEGIN:VEVENT
DTSTART;TZID=America/New_York:20260407T054500
DTEND;TZID=America/New_York:20260407T190000
DTSTAMP:20260423T160658
CREATED:20260404T124847Z
LAST-MODIFIED:20260406T145623Z
UID:10000184-1775540700-1775588400@ridgewoodcameraclub.net
SUMMARY:Sunrise with Cherry Blossoms at the Cathedral Basilica
DESCRIPTION:Join us for early morning images at   Cathedral Basilica of the Sacred Heart. \nPark right beside the  Cathedral at (Victoria  Ave. or Ridge Street) and then walk down to the opposite side of Branch Brook Lake. The sun comes up behind the basilica and the lake is lined with cherry blossoms. It always makes for a really beautiful morning! \nPlan to get there around 5:45 for time for setup \nAndrew Tuttle \nViews: 171
URL:https://ridgewoodcameraclub.net/event/sunrise-with-cherry-blossoms-at-the-carthedral-basilica/
LOCATION:Cathedral Basilica\, 89 Ridge st\, Newark\, 07104\, United States
CATEGORIES:Member Meetup
ATTACH;FMTTYPE=image/jpeg:https://ridgewoodcameraclub.net/wp-content/uploads/2026/04/DSC00275-scaled.jpeg
END:VEVENT
BEGIN:VEVENT
DTSTART;TZID=America/New_York:20250905T180000
DTEND;TZID=America/New_York:20250905T210000
DTSTAMP:20260423T160658
CREATED:20250905T165222Z
LAST-MODIFIED:20250905T201040Z
UID:10000161-1757095200-1757106000@ridgewoodcameraclub.net
SUMMARY:Ridgewood Car Show Tonight
DESCRIPTION:Tonight from 6-9 pm is the annual car show in downtown Ridgewood. E. Ridgewood Ave will be closed to traffic so pedestrians can enjoy the old cars. There is live music and food. Here’s a local street photography opportunity! Hope to see you there. \nViews: 171
URL:https://ridgewoodcameraclub.net/event/ridgewood-car-show-tonight/
LOCATION:east ridgewood ave\, ridgewood\, nj\, East Ridgewood ave\, Ridgewood\, Nj
CATEGORIES:Member Meetup
END:VEVENT
BEGIN:VEVENT
DTSTART;VALUE=DATE:20250823
DTEND;VALUE=DATE:20250825
DTSTAMP:20260423T160658
CREATED:20250527T123651Z
LAST-MODIFIED:20250702T204047Z
UID:10000063-1755907200-1756079999@ridgewoodcameraclub.net
SUMMARY:New York  Air Show - Meetup
DESCRIPTION:The 2025 New York Air Show is scheduled for August 23–24 at Orange County Airport in Montgomery\, NY\, featuring the U.S. Air Force F-22 Raptor Demo Team as the headliner. This event is part of the Air Dot Show Tour\, which visits eight iconic destinations across the U.S.  The air show attracts over 12\,000 spectators daily. \nViews: 171
URL:https://ridgewoodcameraclub.net/event/ny-air-show/
LOCATION:Orange County Airport\, 500 Dunn rd\, Montgomery\, NY\, 12549\, United States
CATEGORIES:Member Meetup
ATTACH;FMTTYPE=image/jpeg:https://ridgewoodcameraclub.net/wp-content/uploads/2025/05/IMG_1824.jpeg
ORGANIZER;CN="Stuart Waldrum":MAILTO:waldrum@yahoo.com
END:VEVENT
BEGIN:VEVENT
DTSTART;TZID=America/New_York:20250809T191500
DTEND;TZID=America/New_York:20250809T213000
DTSTAMP:20260423T160658
CREATED:20250809T152831Z
LAST-MODIFIED:20250809T153351Z
UID:10000149-1754766900-1754775000@ridgewoodcameraclub.net
SUMMARY:Sturgeon Moon Rising
DESCRIPTION:Heading to Weehawken Waterfront this evening at 7:15ish to shoot the sunset and moon rising.  If anyone is interested come on down/over.  The sun will set at 8:02 pm and the moon is scheduled to arrive at 8:30pm. \nLocation:  Where Kennedy Ave/Hamilton Ave meet (same location as the Skyline shoot back in the fall 2024). \n  \nViews: 171
URL:https://ridgewoodcameraclub.net/event/sturgeon-moon-rising/
LOCATION:Weehawken Waterfront\, Hamilton Ave/Kennedy Ave\, Weehawken\, NJ\, 07087\, United States
CATEGORIES:Member Meetup
END:VEVENT
END:VCALENDAR