BEGIN:VCALENDAR
VERSION:2.0
PRODID:-//Ridgewood Camera Club - ECPv6.15.20//NONSGML v1.0//EN
CALSCALE:GREGORIAN
METHOD:PUBLISH
X-ORIGINAL-URL:https://ridgewoodcameraclub.net
X-WR-CALDESC:Events for Ridgewood Camera Club
REFRESH-INTERVAL;VALUE=DURATION:PT1H
X-Robots-Tag:noindex
X-PUBLISHED-TTL:PT1H
BEGIN:VTIMEZONE
TZID:America/New_York
BEGIN:DAYLIGHT
TZOFFSETFROM:-0500
TZOFFSETTO:-0400
TZNAME:EDT
DTSTART:20240310T070000
END:DAYLIGHT
BEGIN:STANDARD
TZOFFSETFROM:-0400
TZOFFSETTO:-0500
TZNAME:EST
DTSTART:20241103T060000
END:STANDARD
BEGIN:DAYLIGHT
TZOFFSETFROM:-0500
TZOFFSETTO:-0400
TZNAME:EDT
DTSTART:20250309T070000
END:DAYLIGHT
BEGIN:STANDARD
TZOFFSETFROM:-0400
TZOFFSETTO:-0500
TZNAME:EST
DTSTART:20251102T060000
END:STANDARD
BEGIN:DAYLIGHT
TZOFFSETFROM:-0500
TZOFFSETTO:-0400
TZNAME:EDT
DTSTART:20260308T070000
END:DAYLIGHT
BEGIN:STANDARD
TZOFFSETFROM:-0400
TZOFFSETTO:-0500
TZNAME:EST
DTSTART:20261101T060000
END:STANDARD
END:VTIMEZONE
BEGIN:VEVENT
DTSTART;TZID=America/New_York:20251011T110000
DTEND;TZID=America/New_York:20251011T153000
DTSTAMP:20260424T110847
CREATED:20250726T154659Z
LAST-MODIFIED:20250803T150538Z
UID:10000145-1760180400-1760196600@ridgewoodcameraclub.net
SUMMARY:BERGEN COUNTY 61st ANNUAL  ART IN THE PARK SHOW AND CONCERT
DESCRIPTION:Join us as either an exhibitor or visitor. Complete the attached registration ASAP and mark Ridgewood Camera Club under the section “If you are a member of a Bergen-based art club’ \nPlease indicate whether you plan to be an exhibitor of just a visitor in the Ticket/RSVP section \nTHE BERGEN COUNTY 61st ANNUAL ART IN THE PARK SHOW AND CONCERT \nExhibitor must be a Bergen County Resident and 17 & older to participate. Registration is free \nSet-up 9 am; jurying begins 10:30 am; show opens 11 am; awards ceremony 3:30 pm. \nEach category receives ribbons and cash prizes \nBEST IN SHOW: $400; 1st PLACE: $140; 2nd PLACE: $125; \n3rd PLACE: $100; HONORABLE MENTION: $75 \n*IMPORTANT: New County Treasury Payment Policy requires prize winners to complete a \nw9; 2 disclaimer forms; a “Vendor Info Form”; \nand apply for a NJ Business Registration Certificate\, (BRC) \nThe sale of artwork is permitted but juried work MUST remain on display until 4:30 pm. \nSpaces measure approximately 6’ high x 8’ wide each. \nExhibitor spots reserved on a first-come\, first-served basis. \n  \nPhone: 201-336-7292\, or email: glucente@co.bergen.nj.us \nViews: 32
URL:https://ridgewoodcameraclub.net/event/bergen-county-61st-annual-art-in-the-park-show-and-concert/
LOCATION:Van Saun Park\, 216 Forest Ave\, Paramus\, NJ\, 07652\, United States
CATEGORIES:External Event
ATTACH;FMTTYPE=image/jpeg:https://ridgewoodcameraclub.net/wp-content/uploads/2025/08/IMG_0101-scaled.jpeg
ORGANIZER;CN="Stuart Waldrum":MAILTO:waldrum@yahoo.com
END:VEVENT
END:VCALENDAR