BEGIN:VCALENDAR
VERSION:2.0
PRODID:-//Ridgewood Camera Club - ECPv6.15.20//NONSGML v1.0//EN
CALSCALE:GREGORIAN
METHOD:PUBLISH
X-ORIGINAL-URL:https://ridgewoodcameraclub.net
X-WR-CALDESC:Events for Ridgewood Camera Club
REFRESH-INTERVAL;VALUE=DURATION:PT1H
X-Robots-Tag:noindex
X-PUBLISHED-TTL:PT1H
BEGIN:VTIMEZONE
TZID:America/New_York
BEGIN:DAYLIGHT
TZOFFSETFROM:-0500
TZOFFSETTO:-0400
TZNAME:EDT
DTSTART:20250309T070000
END:DAYLIGHT
BEGIN:STANDARD
TZOFFSETFROM:-0400
TZOFFSETTO:-0500
TZNAME:EST
DTSTART:20251102T060000
END:STANDARD
BEGIN:DAYLIGHT
TZOFFSETFROM:-0500
TZOFFSETTO:-0400
TZNAME:EDT
DTSTART:20260308T070000
END:DAYLIGHT
BEGIN:STANDARD
TZOFFSETFROM:-0400
TZOFFSETTO:-0500
TZNAME:EST
DTSTART:20261101T060000
END:STANDARD
BEGIN:DAYLIGHT
TZOFFSETFROM:-0500
TZOFFSETTO:-0400
TZNAME:EDT
DTSTART:20270314T070000
END:DAYLIGHT
BEGIN:STANDARD
TZOFFSETFROM:-0400
TZOFFSETTO:-0500
TZNAME:EST
DTSTART:20271107T060000
END:STANDARD
END:VTIMEZONE
BEGIN:VEVENT
DTSTART;TZID=America/New_York:20260304T193000
DTEND;TZID=America/New_York:20260304T210000
DTSTAMP:20260423T151842
CREATED:20250617T191933Z
LAST-MODIFIED:20250826T195233Z
UID:10000090-1772652600-1772658000@ridgewoodcameraclub.net
SUMMARY:Executive Committee Meeting - March
DESCRIPTION:Views: 4
URL:https://ridgewoodcameraclub.net/event/executive-committee-meeting-march/
LOCATION:RCC Zoom
CATEGORIES:EC Meetings
ORGANIZER;CN="Stuart Waldrum":MAILTO:waldrum@yahoo.com
END:VEVENT
BEGIN:VEVENT
DTSTART;TZID=America/New_York:20260401T193000
DTEND;TZID=America/New_York:20260401T210000
DTSTAMP:20260423T151842
CREATED:20250617T192005Z
LAST-MODIFIED:20260105T151754Z
UID:10000091-1775071800-1775077200@ridgewoodcameraclub.net
SUMMARY:Executive Committee Meeting - April
DESCRIPTION:Views: 4
URL:https://ridgewoodcameraclub.net/event/executive-committee-meeting-april/
LOCATION:RCC Zoom
CATEGORIES:EC Meetings
ORGANIZER;CN="Stuart Waldrum":MAILTO:waldrum@yahoo.com
END:VEVENT
BEGIN:VEVENT
DTSTART;TZID=America/New_York:20260506T193000
DTEND;TZID=America/New_York:20260506T210000
DTSTAMP:20260423T151842
CREATED:20250617T192045Z
LAST-MODIFIED:20250826T195136Z
UID:10000092-1778095800-1778101200@ridgewoodcameraclub.net
SUMMARY:Executive Committee Meeting - May
DESCRIPTION:Views: 4
URL:https://ridgewoodcameraclub.net/event/executive-committee-meeting-may/
LOCATION:RCC Zoom
CATEGORIES:EC Meetings
ORGANIZER;CN="Stuart Waldrum":MAILTO:waldrum@yahoo.com
END:VEVENT
BEGIN:VEVENT
DTSTART;TZID=America/New_York:20260603T193000
DTEND;TZID=America/New_York:20260603T210000
DTSTAMP:20260423T151842
CREATED:20250617T192129Z
LAST-MODIFIED:20250826T195053Z
UID:10000093-1780515000-1780520400@ridgewoodcameraclub.net
SUMMARY:Executive Committee Meeting - June
DESCRIPTION:Views: 4
URL:https://ridgewoodcameraclub.net/event/executive-committee-meeting-june/
LOCATION:RCC Zoom
CATEGORIES:EC Meetings
ORGANIZER;CN="Stuart Waldrum":MAILTO:waldrum@yahoo.com
END:VEVENT
END:VCALENDAR